BEGIN:VCALENDAR
VERSION:2.0
PRODID:-//Gründungsfabrik Rheingau - ECPv6.15.18//NONSGML v1.0//EN
CALSCALE:GREGORIAN
METHOD:PUBLISH
X-ORIGINAL-URL:https://gruendungsfabrik-rheingau.de
X-WR-CALDESC:Veranstaltungen für Gründungsfabrik Rheingau
REFRESH-INTERVAL;VALUE=DURATION:PT1H
X-Robots-Tag:noindex
X-PUBLISHED-TTL:PT1H
BEGIN:VTIMEZONE
TZID:Europe/Berlin
BEGIN:DAYLIGHT
TZOFFSETFROM:+0100
TZOFFSETTO:+0200
TZNAME:CEST
DTSTART:20230326T010000
END:DAYLIGHT
BEGIN:STANDARD
TZOFFSETFROM:+0200
TZOFFSETTO:+0100
TZNAME:CET
DTSTART:20231029T010000
END:STANDARD
BEGIN:DAYLIGHT
TZOFFSETFROM:+0100
TZOFFSETTO:+0200
TZNAME:CEST
DTSTART:20240331T010000
END:DAYLIGHT
BEGIN:STANDARD
TZOFFSETFROM:+0200
TZOFFSETTO:+0100
TZNAME:CET
DTSTART:20241027T010000
END:STANDARD
BEGIN:DAYLIGHT
TZOFFSETFROM:+0100
TZOFFSETTO:+0200
TZNAME:CEST
DTSTART:20250330T010000
END:DAYLIGHT
BEGIN:STANDARD
TZOFFSETFROM:+0200
TZOFFSETTO:+0100
TZNAME:CET
DTSTART:20251026T010000
END:STANDARD
END:VTIMEZONE
BEGIN:VEVENT
DTSTART;VALUE=DATE:20240424
DTEND;VALUE=DATE:20240427
DTSTAMP:20260424T214001
CREATED:20240209T145634Z
LAST-MODIFIED:20240209T145634Z
UID:10000803-1713916800-1714175999@gruendungsfabrik-rheingau.de
SUMMARY:Growth Alliance Idea Camp - Hackathon @ Gründungsfabrik
DESCRIPTION:Deine Start-up-Idee für eine zukunftsfähige Land- & Ernährungswirtschaft\nDu interessierst dich für Innovationen mit nachhaltigem Impact für Landwirtschaft und Ernährung und\nspielst mit der Idee ein Start-up zu gründen? Dann bist du beim Idea Camp der Growth Alliance genau\nrichtig! Das Idea Camp ist ein kostenfreier Hackathon für gründungsinteressierte Studierende\,\nAbsolvent:innen und Berufstätige aller Fachbereiche. Du benötigst keine Vorkenntnisse im Bereich\nGründung und Geschäftsmodellentwicklung\, um teilzunehmen. \nEine Branche – viele Möglichkeiten\nDu hast noch keine eigene Gründungsidee? Kein Problem: Bei der Idea Fair werden verschiedene\nChallenges zu den Themen Smart Farming\, Nachhaltige Ernährung\, Bürokratieabbau\, Natur- & Klimaschutz\nsowie Bioökonomie vorgestellt\, an denen du im Rahmen des Idea Camps gemeinsam mit anderen\nTeilnehmer:innen arbeiten kannst. Mentor:innen aus der Start-up-Szene\, (Land-)Wirtschaft und\nWissenschaft begleiten euch beim Ideation-Prozess. Am Ende des Programms bekommt ihr die\nGelegenheit\, eure Ideen beim Demo Day vor einer Expert:innen-Jury zu präsentieren. Die besten Ideen\nwerden mit 1000€ ausgezeichnet! \nIhr habt Interesse dabei zu sein? Bewerbt euch hier: www.growthalliance.de \nEine Initiative des TechQuartier Frankfurt und der rentenbank mit Unterstützung der Gründungsfabrik Rheingau
URL:https://gruendungsfabrik-rheingau.de/kalender/growth-alliance-idea-camp-hackathon-gruendungsfabrik/
LOCATION:Gründungsfabrik\, Winkeler Straße 100b\, Geisenheim\, 65366\, Deutschland
ATTACH;FMTTYPE=image/png:https://gruendungsfabrik-rheingau.de/wp-content/uploads/2024/02/Growth-Alliance-Idea-Camp-Share-Pic-Newsletter.png
END:VEVENT
END:VCALENDAR